BEGIN:VCALENDAR
PRODID:-//github.com/rianjs/ical.net//NONSGML ical.net 4.0//EN
VERSION:2.0
BEGIN:VTIMEZONE
TZID:Central Standard Time
X-LIC-LOCATION:America/Chicago
BEGIN:STANDARD
DTSTART:20241103T020000
RRULE:FREQ=YEARLY;BYDAY=1SU;BYMONTH=11
TZNAME:CST
TZOFFSETFROM:-0500
TZOFFSETTO:-0600
END:STANDARD
BEGIN:DAYLIGHT
DTSTART:20250309T020000
RRULE:FREQ=YEARLY;BYDAY=2SU;BYMONTH=3
TZNAME:CDT
TZOFFSETFROM:-0600
TZOFFSETTO:-0500
END:DAYLIGHT
END:VTIMEZONE
BEGIN:VEVENT
DESCRIPTION:This annual event honors a woman who has made an impact in phi
 lanthropy
DTEND;TZID=Central Standard Time:20260505T133000
DTSTAMP:20260421T105430Z
DTSTART;TZID=Central Standard Time:20260505T103000
LOCATION:Chicago Marriott Magnificent Mile 540 North Michigan Avenue Chica
 go\, IL 60611 United States
ORGANIZER;CN=;SENT-BY="mailto:":
SEQUENCE:0
SUMMARY:CWIP: 2026 Making a Difference Annual Luncheon
UID:950766eb-926b-4745-8fc0-b1554fd4b455
END:VEVENT
END:VCALENDAR
